BEGIN:VCALENDAR
VERSION:2.0
PRODID:-//ChurchDev//Events//EN
CALSCALE:GREGORIAN
METHOD:PUBLISH
BEGIN:VEVENT
UID:2870-20240103@www.gatewaybaptistalamogordo.com
SUMMARY:Wednesday Prayer Meeting and Bible Study
DTSTART:20240104T013000Z
DTEND:20240104T023000Z
DESCRIPTION:Please join us on Wednesdays with a focus on prayer followed by a short Bible study with our Pastor Edward Lenhart. &#8220\;Rejoice evermore. Pray without ceasing. In everything give thanks: for this is the will of God in Christ Jesus concerning you.&#8221\; (1 Thessalonians 5:16-18)\\n\\nhttps://www.gatewaybaptistalamogordo.com/events/wednesday-prayer-meeting-and-bible-study/
LOCATION:980 US Highway 70 W\, Alamogordo\, New Mexico 88310
URL:https://www.gatewaybaptistalamogordo.com/events/wednesday-prayer-meeting-and-bible-study/
DTSTAMP:20260419T210304Z
END:VEVENT
END:VCALENDAR
